{"text_format":"1","workbook":"xlsx","n_sheets":4,"sheets":["男子エントリー","女子エントリー","参加人数集計","データテーブル"],"not_rendered":{"charts":0,"images":2,"macros":0,"external_links":0,"defined_names":2,"comments":2,"pivot_tables":0},"unopened":[],"bounds":{"document_bytes":16777216,"sheet_cells":100000,"rows_first":2000,"rows_last":500,"rows_between":2000,"halvings":0,"cell_chars":16384,"cell_head_chars":4096},"cells_cut":0,"cells_raw":0,"read":"whole","date_system":"1900"}

{"sheet":"男子エントリー","index":0,"n_rows":56,"n_cols":48,"rows_kept":56,"cut":false,"hidden":false,"merged":[[49,0,49,30],[51,0,51,30],[53,1,53,2],[55,8,55,18],[55,19,55,20],[55,21,55,29],[45,2,45,7],[45,8,45,13],[46,2,46,7],[46,8,46,13],[47,0,47,1],[47,2,47,7],[47,8,47,13],[39,0,46,0],[41,8,41,13],[42,2,42,7],[42,8,42,13],[43,2,43,7],[43,8,43,13],[44,2,44,7],[44,8,44,13],[39,2,39,7],[39,8,39,13],[40,2,40,7],[40,8,40,13],[41,2,41,7],[33,8,33,13],[34,2,34,7],[34,8,34,13],[35,2,35,7],[35,8,35,13],[36,2,36,7],[36,8,36,13],[29,0,38,0],[29,2,29,7],[29,8,29,13],[30,2,30,7],[30,8,30,13],[31,2,31,7],[31,8,31,13],[32,2,32,7],[32,8,32,13],[33,2,33,7],[37,2,37,7],[37,8,37,13],[38,2,38,7],[38,8,38,13],[19,0,28,0],[19,2,19,7],[19,8,19,13],[20,2,20,7],[20,8,20,13],[21,2,21,7],[21,8,21,13],[22,2,22,7],[26,2,26,7],[26,8,26,13],[27,2,27,7],[27,8,27,13],[28,2,28,7],[28,8,28,13],[22,8,22,13],[23,2,23,7],[23,8,23,13],[24,2,24,7],[24,8,24,13],[25,2,25,7],[25,8,25,13],[13,8,13,13],[14,0,18,1],[14,2,14,7],[14,8,14,13],[15,2,15,7],[15,8,15,13],[16,2,16,7],[16,8,16,13],[17,2,17,7],[17,8,17,13],[9,0,13,1],[9,2,9,7],[9,8,9,13],[10,2,10,7],[10,8,10,13],[11,2,11,7],[11,8,11,13],[12,2,12,7],[12,8,12,13],[13,2,13,7],[18,2,18,7],[18,8,18,13],[6,22,6,30],[8,0,8,1],[8,2,8,7],[8,8,8,13],[8,17,8,23],[8,24,8,30],[4,20,4,21],[4,22,4,30],[5,0,5,1],[5,3,5,16],[5,17,6,19],[5,20,5,21],[5,22,5,30],[6,0,6,1],[6,3,6,16],[6,20,6,21],[0,0,0,25],[0,26,2,30],[2,0,2,1],[2,3,2,16],[3,0,4,1],[3,3,3,16],[3,17,4,19],[3,20,3,21],[3,22,3,30],[4,3,4,16],[0,32,0,48],[37,33,38,33],[19,36,20,36],[7,33,7,37],[7,39,7,47],[21,36,22,36],[23,36,24,36],[25,36,26,36],[27,36,28,36],[29,36,30,36],[31,36,32,36],[33,36,34,36],[35,36,36,36],[37,36,38,36],[19,33,20,33],[21,33,22,33],[23,33,24,33],[25,33,26,33],[27,33,28,33],[29,33,30,33],[31,33,32,33],[33,33,34,33],[35,33,36,33]]}
["３０　少林寺拳法競技　参加申込書　（新人）",null,null,null,null,null,null,null,null,null,null,null,null,null,null,null,null,null,null,null,null,null,null,null,null,null,"男子",null,null,null,null,null,"非表示セルあり"]
[]
["学校名"]
["学校所在地",null,"〒",{"$f":"IF($D$3=\"\",\"\",VLOOKUP($D$3,データテーブル!$A$2:$G$71,3,0))","v":""},null,null,null,null,null,null,null,null,null,null,null,null,null,"監　督",null,null,"氏名"]
[null,null,null,{"$f":"IF($D$3=\"\",\"\",VLOOKUP($D$3,データテーブル!$A$2:$G$71,4,0))","v":""},null,null,null,null,null,null,null,null,null,null,null,null,null,null,null,null,"ＴＥＬ"]
["ＴＥＬ",null,null,{"$f":"IF($D$3=\"\",\"\",VLOOKUP($D$3,データテーブル!$A$2:$G$71,5,0))","v":""},null,null,null,null,null,null,null,null,null,null,null,null,null,"引率教員",null,null,"氏名"]
["ＦＡＸ",null,null,{"$f":"IF($D$3=\"\",\"\",VLOOKUP($D$3,データテーブル!$A$2:$G$71,6,0))","v":""},null,null,null,null,null,null,null,null,null,null,null,null,null,null,null,null,"ＴＥＬ"]
[null,null,null,null,null,null,null,null,null,null,null,null,null,null,null,null,null,null,null,null,null,null,null,null,null,null,null,null,null,null,null,null,null,"監督会議　抽選会資料用",null,null,null,null,null,"出場選手マスター用"]
["出場種目",null,"選手名",null,null,null,null,null,"ふりがな",null,null,null,null,null,"性別","学年","資格","生年月日",null,null,null,null,null,null,"入学（転入）年月日",null,null,null,null,null,null,null,null,"種目","演武順","氏名","学校名","資格",null,"学校名","種目","演武NO","組NO","選手名","ふりがな","性別","学年","資格"]
["規定単独演武",null,null,null,null,null,null,null,{"$f":"PHONETIC(C10)","v":""},null,null,null,null,null,{"$f":"IF(C10=\"\",\"\",データテーブル!$H$2)","v":""},null,null,"平成",null,"年",null,"月",null,"日","令和",{"$f":"IF(P10=3,4,IF(P10=2,5,IF(P10=1,6,\"\")))","v":""},"年",{"$f":"IF(P10=\"\",\"\",4)","v":""},"月",{"$f":"IF(P10=\"\",\"\",10)","v":""},"日",null,null,"規定",null,{"$f":"C10","v":0},{"$f":"VLOOKUP($D$3,データテーブル!$A$2:$B$71,2,FALSE)","v":{"$error":"#N/A"}},{"$f":"Q10","v":0},null,{"$f":"VLOOKUP($D$3,データテーブル!$A$2:$B$71,2,FALSE)","v":{"$error":"#N/A"}},"規定単独演武",null,1,{"$f":"C10","v":0},{"$f":"I10","v":""},{"$f":"O10","v":""},{"$f":"P10","v":0},{"$f":"Q10","v":0}]
[null,null,null,null,null,null,null,null,{"$f":"PHONETIC(C11)","v":""},null,null,null,null,null,{"$f":"IF(C11=\"\",\"\",データテーブル!$H$2)","v":""},null,null,"平成",null,"年",null,"月",null,"日","令和",{"$f":"IF(P11=3,4,IF(P11=2,5,IF(P11=1,6,\"\")))","v":""},"年","","月","","日",null,null,"規定",null,{"$f":"C11","v":0},{"$f":"VLOOKUP($D$3,データテーブル!$A$2:$B$71,2,FALSE)","v":{"$error":"#N/A"}},{"$f":"Q11","v":0},null,{"$f":"VLOOKUP($D$3,データテーブル!$A$2:$B$71,2,FALSE)","v":{"$error":"#N/A"}},"規定単独演武",null,1,{"$f":"C11","v":0},{"$f":"I11","v":""},{"$f":"O11","v":""},{"$f":"P11","v":0},{"$f":"Q11","v":0}]
[null,null,null,null,null,null,null,null,"",null,null,null,null,null,{"$f":"IF(C12=\"\",\"\",データテーブル!$H$2)","v":""},null,null,"平成",null,"年",null,"月",null,"日","令和","","年","","月","","日",null,null,"規定",null,0,{"$f":"VLOOKUP($D$3,データテーブル!$A$2:$B$71,2,FALSE)","v":{"$error":"#N/A"}},0,null,{"$f":"VLOOKUP($D$3,データテーブル!$A$2:$B$71,2,FALSE)","v":{"$error":"#N/A"}},"規定単独演武",null,1,0,"","",0,0]
[null,null,null,null,null,null,null,null,"",null,null,null,null,null,{"$f":"IF(C13=\"\",\"\",データテーブル!$H$2)","v":""},null,null,"平成",null,"年",null,"月",null,"日","令和","","年","","月","","日",null,null,"規定",null,0,{"$f":"VLOOKUP($D$3,データテーブル!$A$2:$B$71,2,FALSE)","v":{"$error":"#N/A"}},0,null,{"$f":"VLOOKUP($D$3,データテーブル!$A$2:$B$71,2,FALSE)","v":{"$error":"#N/A"}},"規定単独演武",null,1,0,"","",0,0]
[null,null,null,null,null,null,null,null,"",null,null,null,null,null,{"$f":"IF(C14=\"\",\"\",データテーブル!$H$2)","v":""},null,null,"平成",null,"年",null,"月",null,"日","令和","","年","","月","","日",null,null,"規定",null,0,{"$f":"VLOOKUP($D$3,データテーブル!$A$2:$B$71,2,FALSE)","v":{"$error":"#N/A"}},0,null,{"$f":"VLOOKUP($D$3,データテーブル!$A$2:$B$71,2,FALSE)","v":{"$error":"#N/A"}},"規定単独演武",null,1,0,"","",0,0]
["自由単独演武",null,null,null,null,null,null,null,"",null,null,null,null,null,{"$f":"IF(C15=\"\",\"\",データテーブル!$H$2)","v":""},null,null,"平成",null,"年",null,"月",null,"日","令和","","年","","月","","日",null,null,"自由",null,0,{"$f":"VLOOKUP($D$3,データテーブル!$A$2:$B$71,2,FALSE)","v":{"$error":"#N/A"}},0,null,{"$f":"VLOOKUP($D$3,データテーブル!$A$2:$B$71,2,FALSE)","v":{"$error":"#N/A"}},"自由単独演武",null,1,0,"","",0,0]
[null,null,null,null,null,null,null,null,"",null,null,null,null,null,{"$f":"IF(C16=\"\",\"\",データテーブル!$H$2)","v":""},null,null,"平成",null,"年",null,"月",null,"日","令和","","年","","月","","日",null,null,"自由",null,0,{"$f":"VLOOKUP($D$3,データテーブル!$A$2:$B$71,2,FALSE)","v":{"$error":"#N/A"}},0,null,{"$f":"VLOOKUP($D$3,データテーブル!$A$2:$B$71,2,FALSE)","v":{"$error":"#N/A"}},"自由単独演武",null,1,0,"","",0,0]
[null,null,null,null,null,null,null,null,"",null,null,null,null,null,{"$f":"IF(C17=\"\",\"\",データテーブル!$H$2)","v":""},null,null,"平成",null,"年",null,"月",null,"日","令和","","年","","月","","日",null,null,"自由",null,0,{"$f":"VLOOKUP($D$3,データテーブル!$A$2:$B$71,2,FALSE)","v":{"$error":"#N/A"}},0,null,{"$f":"VLOOKUP($D$3,データテーブル!$A$2:$B$71,2,FALSE)","v":{"$error":"#N/A"}},"自由単独演武",null,1,0,"","",0,0]
[null,null,null,null,null,null,null,null,"",null,null,null,null,null,{"$f":"IF(C18=\"\",\"\",データテーブル!$H$2)","v":""},null,null,"平成",null,"年",null,"月",null,"日","令和","","年","","月","","日",null,null,"自由",null,0,{"$f":"VLOOKUP($D$3,データテーブル!$A$2:$B$71,2,FALSE)","v":{"$error":"#N/A"}},0,null,{"$f":"VLOOKUP($D$3,データテーブル!$A$2:$B$71,2,FALSE)","v":{"$error":"#N/A"}},"自由単独演武",null,1,0,"","",0,0]
[null,null,null,null,null,null,null,null,"",null,null,null,null,null,{"$f":"IF(C19=\"\",\"\",データテーブル!$H$2)","v":""},null,null,"平成",null,"年",null,"月",null,"日","令和","","年","","月","","日",null,null,"自由",null,0,{"$f":"VLOOKUP($D$3,データテーブル!$A$2:$B$71,2,FALSE)","v":{"$error":"#N/A"}},0,null,{"$f":"VLOOKUP($D$3,データテーブル!$A$2:$B$71,2,FALSE)","v":{"$error":"#N/A"}},"自由単独演武",null,1,0,"","",0,0]
["規定組演武",1,null,null,null,null,null,null,"",null,null,null,null,null,{"$f":"IF(C20=\"\",\"\",データテーブル!$H$2)","v":""},null,null,"平成",null,"年",null,"月",null,"日","令和","","年","","月","","日",null,null,"規定",null,0,{"$f":"VLOOKUP($D$3,データテーブル!$A$2:$B$71,2,FALSE)","v":{"$error":"#N/A"}},0,null,{"$f":"VLOOKUP($D$3,データテーブル!$A$2:$B$71,2,FALSE)","v":{"$error":"#N/A"}},"規定組演武",null,1,0,"","",0,0]
[null,2,null,null,null,null,null,null,"",null,null,null,null,null,{"$f":"IF(C21=\"\",\"\",データテーブル!$H$2)","v":""},null,null,"平成",null,"年",null,"月",null,"日","令和","","年","","月","","日",null,null,null,null,0,null,0,null,{"$f":"VLOOKUP($D$3,データテーブル!$A$2:$B$71,2,FALSE)","v":{"$error":"#N/A"}},"規定組演武",null,2,0,"","",0,0]
[null,1,null,null,null,null,null,null,"",null,null,null,null,null,{"$f":"IF(C22=\"\",\"\",データテーブル!$H$2)","v":""},null,null,"平成",null,"年",null,"月",null,"日","令和","","年","","月","","日",null,null,"規定",null,0,{"$f":"VLOOKUP($D$3,データテーブル!$A$2:$B$71,2,FALSE)","v":{"$error":"#N/A"}},0,null,{"$f":"VLOOKUP($D$3,データテーブル!$A$2:$B$71,2,FALSE)","v":{"$error":"#N/A"}},"規定組演武",null,1,0,"","",0,0]
[null,2,null,null,null,null,null,null,"",null,null,null,null,null,{"$f":"IF(C23=\"\",\"\",データテーブル!$H$2)","v":""},null,null,"平成",null,"年",null,"月",null,"日","令和","","年","","月","","日",null,null,null,null,0,null,0,null,{"$f":"VLOOKUP($D$3,データテーブル!$A$2:$B$71,2,FALSE)","v":{"$error":"#N/A"}},"規定組演武",null,2,0,"","",0,0]
[null,1,null,null,null,null,null,null,"",null,null,null,null,null,{"$f":"IF(C24=\"\",\"\",データテーブル!$H$2)","v":""},null,null,"平成",null,"年",null,"月",null,"日","令和","","年","","月","","日",null,null,"規定",null,0,{"$f":"VLOOKUP($D$3,データテーブル!$A$2:$B$71,2,FALSE)","v":{"$error":"#N/A"}},0,null,{"$f":"VLOOKUP($D$3,データテーブル!$A$2:$B$71,2,FALSE)","v":{"$error":"#N/A"}},"規定組演武",null,1,0,"","",0,0]
[null,2,null,null,null,null,null,null,"",null,null,null,null,null,{"$f":"IF(C25=\"\",\"\",データテーブル!$H$2)","v":""},null,null,"平成",null,"年",null,"月",null,"日","令和","","年","","月","","日",null,null,null,null,0,null,0,null,{"$f":"VLOOKUP($D$3,データテーブル!$A$2:$B$71,2,FALSE)","v":{"$error":"#N/A"}},"規定組演武",null,2,0,"","",0,0]
[null,1,null,null,null,null,null,null,"",null,null,null,null,null,{"$f":"IF(C26=\"\",\"\",データテーブル!$H$2)","v":""},null,null,"平成",null,"年",null,"月",null,"日","令和","","年","","月","","日",null,null,"規定",null,0,{"$f":"VLOOKUP($D$3,データテーブル!$A$2:$B$71,2,FALSE)","v":{"$error":"#N/A"}},0,null,{"$f":"VLOOKUP($D$3,データテーブル!$A$2:$B$71,2,FALSE)","v":{"$error":"#N/A"}},"規定組演武",null,1,0,"","",0,0]
[null,2,null,null,null,null,null,null,"",null,null,null,null,null,{"$f":"IF(C27=\"\",\"\",データテーブル!$H$2)","v":""},null,null,"平成",null,"年",null,"月",null,"日","令和","","年","","月","","日",null,null,null,null,0,null,0,null,{"$f":"VLOOKUP($D$3,データテーブル!$A$2:$B$71,2,FALSE)","v":{"$error":"#N/A"}},"規定組演武",null,2,0,"","",0,0]
[null,1,null,null,null,null,null,null,"",null,null,null,null,null,{"$f":"IF(C28=\"\",\"\",データテーブル!$H$2)","v":""},null,null,"平成",null,"年",null,"月",null,"日","令和","","年","","月","","日",null,null,"規定",null,0,{"$f":"VLOOKUP($D$3,データテーブル!$A$2:$B$71,2,FALSE)","v":{"$error":"#N/A"}},0,null,{"$f":"VLOOKUP($D$3,データテーブル!$A$2:$B$71,2,FALSE)","v":{"$error":"#N/A"}},"規定組演武",null,1,0,"","",0,0]
[null,2,null,null,null,null,null,null,"",null,null,null,null,null,{"$f":"IF(C29=\"\",\"\",データテーブル!$H$2)","v":""},null,null,"平成",null,"年",null,"月",null,"日","令和","","年","","月","","日",null,null,null,null,0,null,0,null,{"$f":"VLOOKUP($D$3,データテーブル!$A$2:$B$71,2,FALSE)","v":{"$error":"#N/A"}},"規定組演武",null,2,0,"","",0,0]
["自由組演武",1,null,null,null,null,null,null,"",null,null,null,null,null,{"$f":"IF(C30=\"\",\"\",データテーブル!$H$2)","v":""},null,null,"平成",null,"年",null,"月",null,"日","令和","","年","","月","","日",null,null,"自由",null,0,{"$f":"VLOOKUP($D$3,データテーブル!$A$2:$B$71,2,FALSE)","v":{"$error":"#N/A"}},0,null,{"$f":"VLOOKUP($D$3,データテーブル!$A$2:$B$71,2,FALSE)","v":{"$error":"#N/A"}},"自由組演武",null,1,0,"","",0,0]
[null,2,null,null,null,null,null,null,"",null,null,null,null,null,{"$f":"IF(C31=\"\",\"\",データテーブル!$H$2)","v":""},null,null,"平成",null,"年",null,"月",null,"日","令和","","年","","月","","日",null,null,null,null,0,null,0,null,{"$f":"VLOOKUP($D$3,データテーブル!$A$2:$B$71,2,FALSE)","v":{"$error":"#N/A"}},"自由組演武",null,2,0,"","",0,0]
[null,1,null,null,null,null,null,null,"",null,null,null,null,null,{"$f":"IF(C32=\"\",\"\",データテーブル!$H$2)","v":""},null,null,"平成",null,"年",null,"月",null,"日","令和","","年","","月","","日",null,null,"自由",null,0,{"$f":"VLOOKUP($D$3,データテーブル!$A$2:$B$71,2,FALSE)","v":{"$error":"#N/A"}},0,null,{"$f":"VLOOKUP($D$3,データテーブル!$A$2:$B$71,2,FALSE)","v":{"$error":"#N/A"}},"自由組演武",null,1,0,"","",0,0]
[null,2,null,null,null,null,null,null,"",null,null,null,null,null,{"$f":"IF(C33=\"\",\"\",データテーブル!$H$2)","v":""},null,null,"平成",null,"年",null,"月",null,"日","令和","","年","","月","","日",null,null,null,null,0,null,0,null,{"$f":"VLOOKUP($D$3,データテーブル!$A$2:$B$71,2,FALSE)","v":{"$error":"#N/A"}},"自由組演武",null,2,0,"","",0,0]
[null,1,null,null,null,null,null,null,"",null,null,null,null,null,{"$f":"IF(C34=\"\",\"\",データテーブル!$H$2)","v":""},null,null,"平成",null,"年",null,"月",null,"日","令和","","年","","月","","日",null,null,"自由",null,0,{"$f":"VLOOKUP($D$3,データテーブル!$A$2:$B$71,2,FALSE)","v":{"$error":"#N/A"}},0,null,{"$f":"VLOOKUP($D$3,データテーブル!$A$2:$B$71,2,FALSE)","v":{"$error":"#N/A"}},"自由組演武",null,1,0,"","",0,0]
[null,2,null,null,null,null,null,null,"",null,null,null,null,null,{"$f":"IF(C35=\"\",\"\",データテーブル!$H$2)","v":""},null,null,"平成",null,"年",null,"月",null,"日","令和","","年","","月","","日",null,null,null,null,0,null,0,null,{"$f":"VLOOKUP($D$3,データテーブル!$A$2:$B$71,2,FALSE)","v":{"$error":"#N/A"}},"自由組演武",null,2,0,"","",0,0]
[null,1,null,null,null,null,null,null,"",null,null,null,null,null,{"$f":"IF(C36=\"\",\"\",データテーブル!$H$2)","v":""},null,null,"平成",null,"年",null,"月",null,"日","令和","","年","","月","","日",null,null,"自由",null,0,{"$f":"VLOOKUP($D$3,データテーブル!$A$2:$B$71,2,FALSE)","v":{"$error":"#N/A"}},0,null,{"$f":"VLOOKUP($D$3,データテーブル!$A$2:$B$71,2,FALSE)","v":{"$error":"#N/A"}},"自由組演武",null,1,0,"","",0,0]
[null,2,null,null,null,null,null,null,"",null,null,null,null,null,{"$f":"IF(C37=\"\",\"\",データテーブル!$H$2)","v":""},null,null,"平成",null,"年",null,"月",null,"日","令和","","年","","月","","日",null,null,null,null,0,null,0,null,{"$f":"VLOOKUP($D$3,データテーブル!$A$2:$B$71,2,FALSE)","v":{"$error":"#N/A"}},"自由組演武",null,2,0,"","",0,0]
[null,1,null,null,null,null,null,null,"",null,null,null,null,null,{"$f":"IF(C38=\"\",\"\",データテーブル!$H$2)","v":""},null,null,"平成",null,"年",null,"月",null,"日","令和","","年","","月","","日",null,null,"自由",null,0,{"$f":"VLOOKUP($D$3,データテーブル!$A$2:$B$71,2,FALSE)","v":{"$error":"#N/A"}},0,null,{"$f":"VLOOKUP($D$3,データテーブル!$A$2:$B$71,2,FALSE)","v":{"$error":"#N/A"}},"自由組演武",null,1,0,"","",0,0]
[null,2,null,null,null,null,null,null,"",null,null,null,null,null,{"$f":"IF(C39=\"\",\"\",データテーブル!$H$2)","v":""},null,null,"平成",null,"年",null,"月",null,"日","令和","","年","","月","","日","重複",null,null,null,0,null,0,null,{"$f":"VLOOKUP($D$3,データテーブル!$A$2:$B$71,2,FALSE)","v":{"$error":"#N/A"}},"自由組演武",null,2,0,"","",0,0]
["団体演武",1,null,null,null,null,null,null,"",null,null,null,null,null,{"$f":"IF(C40=\"\",\"\",データテーブル!$H$2)","v":""},null,null,"平成",null,"年",null,"月",null,"日","令和","","年","","月","","日",{"$f":"IF(COUNTIF($C$10:$H$39,C40)>0,\"○\",\"\")","v":""},null,null,null,null,null,null,null,{"$f":"VLOOKUP($D$3,データテーブル!$A$2:$B$71,2,FALSE)","v":{"$error":"#N/A"}},"団体演武",null,1,0,"","",0,0]
[null,2,null,null,null,null,null,null,"",null,null,null,null,null,{"$f":"IF(C41=\"\",\"\",データテーブル!$H$2)","v":""},null,null,"平成",null,"年",null,"月",null,"日","令和","","年","","月","","日",{"$f":"IF(COUNTIF($C$10:$H$39,C41)>0,\"○\",\"\")","v":""},null,null,null,null,null,null,null,{"$f":"VLOOKUP($D$3,データテーブル!$A$2:$B$71,2,FALSE)","v":{"$error":"#N/A"}},"団体演武",null,2,0,"","",0,0]
[null,3,null,null,null,null,null,null,"",null,null,null,null,null,{"$f":"IF(C42=\"\",\"\",データテーブル!$H$2)","v":""},null,null,"平成",null,"年",null,"月",null,"日","令和","","年","","月","","日","",null,null,null,null,null,null,null,{"$f":"VLOOKUP($D$3,データテーブル!$A$2:$B$71,2,FALSE)","v":{"$error":"#N/A"}},"団体演武",null,3,0,"","",0,0]
[null,4,null,null,null,null,null,null,"",null,null,null,null,null,{"$f":"IF(C43=\"\",\"\",データテーブル!$H$2)","v":""},null,null,"平成",null,"年",null,"月",null,"日","令和","","年","","月","","日","",null,null,null,null,null,null,null,{"$f":"VLOOKUP($D$3,データテーブル!$A$2:$B$71,2,FALSE)","v":{"$error":"#N/A"}},"団体演武",null,4,0,"","",0,0]
[null,5,null,null,null,null,null,null,"",null,null,null,null,null,{"$f":"IF(C44=\"\",\"\",データテーブル!$H$2)","v":""},null,null,"平成",null,"年",null,"月",null,"日","令和","","年","","月","","日","",null,null,null,null,null,null,null,{"$f":"VLOOKUP($D$3,データテーブル!$A$2:$B$71,2,FALSE)","v":{"$error":"#N/A"}},"団体演武",null,5,0,"","",0,0]
[null,6,null,null,null,null,null,null,"",null,null,null,null,null,{"$f":"IF(C45=\"\",\"\",データテーブル!$H$2)","v":""},null,null,"平成",null,"年",null,"月",null,"日","令和","","年","","月","","日","",null,null,null,null,null,null,null,{"$f":"VLOOKUP($D$3,データテーブル!$A$2:$B$71,2,FALSE)","v":{"$error":"#N/A"}},"団体演武",null,6,0,"","",0,0]
[null,7,null,null,null,null,null,null,"",null,null,null,null,null,{"$f":"IF(C46=\"\",\"\",データテーブル!$H$2)","v":""},null,null,"平成",null,"年",null,"月",null,"日","令和","","年","","月","","日","",null,null,null,null,null,null,null,{"$f":"VLOOKUP($D$3,データテーブル!$A$2:$B$71,2,FALSE)","v":{"$error":"#N/A"}},"団体演武",null,7,0,"","",0,0]
[null,8,null,null,null,null,null,null,"",null,null,null,null,null,{"$f":"IF(C47=\"\",\"\",データテーブル!$H$2)","v":""},null,null,"平成",null,"年",null,"月",null,"日","令和","","年","","月","","日","",null,null,null,null,null,null,null,{"$f":"VLOOKUP($D$3,データテーブル!$A$2:$B$71,2,FALSE)","v":{"$error":"#N/A"}},"団体演武",null,8,0,"","",0,0]
["ﾏﾈｰｼﾞｬｰ",null,null,null,null,null,null,null,"",null,null,null,null,null,null,null,null,"平成",null,"年",null,"月",null,"日","令和","","年","","月","","日"]
[]
["上記の者は本校在学生で、本大会に出場することを認め、参加申し込み致します。"]
[]
["高体連個人情報に関する取り扱いについては、本大会要項の記載事項を承諾の上で、参加申し込みすることを同意します。"]
[]
[null,"令和",null,6,"年",{"$f":"MONTH(TODAY())","v":4},"月",{"$f":"DAY(TODAY())","v":11},"日"]
[]
[null,null,null,null,null,null,null,null,{"$f":"IF($D$3=\"\",\"\",$D$3)","v":""},null,null,null,null,null,null,null,null,null,null,"校長",null,{"$f":"IF($D$3=\"\",\"\",VLOOKUP($D$3,データテーブル!$A$2:$G$71,7,0))","v":""},null,null,null,null,null,null,null,null,"印"]

{"sheet":"女子エントリー","index":1,"n_rows":56,"n_cols":48,"rows_kept":56,"cut":false,"hidden":false,"merged":[[0,0,0,25],[0,26,2,30],[2,0,2,1],[2,3,2,16],[3,0,4,1],[3,3,3,16],[3,17,4,19],[3,20,3,21],[3,22,3,30],[4,3,4,16],[6,22,6,30],[7,33,7,37],[7,39,7,47],[8,0,8,1],[8,2,8,7],[8,8,8,13],[8,17,8,23],[8,24,8,30],[4,20,4,21],[4,22,4,30],[5,0,5,1],[5,3,5,16],[5,17,6,19],[5,20,5,21],[5,22,5,30],[6,0,6,1],[6,3,6,16],[6,20,6,21],[13,8,13,13],[14,0,18,1],[14,2,14,7],[14,8,14,13],[15,2,15,7],[15,8,15,13],[16,2,16,7],[16,8,16,13],[17,2,17,7],[17,8,17,13],[9,0,13,1],[9,2,9,7],[9,8,9,13],[10,2,10,7],[10,8,10,13],[11,2,11,7],[11,8,11,13],[12,2,12,7],[12,8,12,13],[13,2,13,7],[18,2,18,7],[18,8,18,13],[19,0,28,0],[19,2,19,7],[19,8,19,13],[19,33,20,33],[23,2,23,7],[23,8,23,13],[23,33,24,33],[27,2,27,7],[19,36,20,36],[20,2,20,7],[20,8,20,13],[21,2,21,7],[21,8,21,13],[21,33,22,33],[21,36,22,36],[22,2,22,7],[22,8,22,13],[27,36,28,36],[28,2,28,7],[28,8,28,13],[29,0,38,0],[29,2,29,7],[29,8,29,13],[29,33,30,33],[29,36,30,36],[23,36,24,36],[24,2,24,7],[24,8,24,13],[25,2,25,7],[25,8,25,13],[25,33,26,33],[25,36,26,36],[26,2,26,7],[26,8,26,13],[30,2,30,7],[30,8,30,13],[31,2,31,7],[31,8,31,13],[31,33,32,33],[31,36,32,36],[32,2,32,7],[32,8,32,13],[27,8,27,13],[27,33,28,33],[35,2,35,7],[35,8,35,13],[35,33,36,33],[35,36,36,36],[36,2,36,7],[36,8,36,13],[33,2,33,7],[33,8,33,13],[33,33,34,33],[33,36,34,36],[34,2,34,7],[34,8,34,13],[42,2,42,7],[42,8,42,13],[43,2,43,7],[37,2,37,7],[37,8,37,13],[37,33,38,33],[37,36,38,36],[38,2,38,7],[38,8,38,13],[55,8,55,18],[55,19,55,20],[55,21,55,29],[0,32,0,48],[47,0,47,1],[47,2,47,7],[47,8,47,13],[49,0,49,30],[51,0,51,30],[53,1,53,2],[43,8,43,13],[44,2,44,7],[44,8,44,13],[45,2,45,7],[45,8,45,13],[46,2,46,7],[46,8,46,13],[39,0,46,0],[39,2,39,7],[39,8,39,13],[40,2,40,7],[40,8,40,13],[41,2,41,7],[41,8,41,13]]}
["３０　少林寺拳法競技　参加申込書　（新人）",null,null,null,null,null,null,null,null,null,null,null,null,null,null,null,null,null,null,null,null,null,null,null,null,null,"女子",null,null,null,null,null,"非表示セルあり"]
[]
["学校名"]
["学校所在地",null,"〒",{"$f":"IF($D$3=\"\",\"\",VLOOKUP($D$3,データテーブル!$A$2:$G$71,3,0))","v":""},null,null,null,null,null,null,null,null,null,null,null,null,null,"監　督",null,null,"氏名"]
[null,null,null,{"$f":"IF($D$3=\"\",\"\",VLOOKUP($D$3,データテーブル!$A$2:$G$71,4,0))","v":""},null,null,null,null,null,null,null,null,null,null,null,null,null,null,null,null,"ＴＥＬ"]
["ＴＥＬ",null,null,{"$f":"IF($D$3=\"\",\"\",VLOOKUP($D$3,データテーブル!$A$2:$G$71,5,0))","v":""},null,null,null,null,null,null,null,null,null,null,null,null,null,"引率教員",null,null,"氏名"]
["ＦＡＸ",null,null,{"$f":"IF($D$3=\"\",\"\",VLOOKUP($D$3,データテーブル!$A$2:$G$71,6,0))","v":""},null,null,null,null,null,null,null,null,null,null,null,null,null,null,null,null,"ＴＥＬ"]
[null,null,null,null,null,null,null,null,null,null,null,null,null,null,null,null,null,null,null,null,null,null,null,null,null,null,null,null,null,null,null,null,null,"監督会議　抽選会資料用",null,null,null,null,null,"出場選手マスター用"]
["出場種目",null,"選手名",null,null,null,null,null,"ふりがな",null,null,null,null,null,"性別","学年","資格","生年月日",null,null,null,null,null,null,"入学（転入）年月日",null,null,null,null,null,null,null,null,"種目","演武順","氏名","学校名","資格",null,"学校名","種目","演武NO","組NO","選手名","ふりがな","性別","学年","資格"]
["規定単独演武",null,null,null,null,null,null,null,{"$f":"PHONETIC(C10)","v":""},null,null,null,null,null,{"$f":"IF(C10=\"\",\"\",データテーブル!$H$2)","v":""},null,null,"平成",null,"年",null,"月",null,"日","令和",{"$f":"IF(P10=3,4,IF(P10=2,5,IF(P10=1,6,\"\")))","v":""},"年",{"$f":"IF(P10=\"\",\"\",4)","v":""},"月",{"$f":"IF(P10=\"\",\"\",10)","v":""},"日",null,null,"規定",null,{"$f":"C10","v":0},{"$f":"VLOOKUP($D$3,データテーブル!$A$2:$B$71,2,FALSE)","v":{"$error":"#N/A"}},{"$f":"Q10","v":0},null,{"$f":"VLOOKUP($D$3,データテーブル!$A$2:$B$71,2,FALSE)","v":{"$error":"#N/A"}},"規定単独演武",null,1,{"$f":"C10","v":0},{"$f":"I10","v":""},{"$f":"O10","v":""},{"$f":"P10","v":0},{"$f":"Q10","v":0}]
[null,null,null,null,null,null,null,null,"",null,null,null,null,null,{"$f":"IF(C11=\"\",\"\",データテーブル!$H$2)","v":""},null,null,"平成",null,"年",null,"月",null,"日","令和",{"$f":"IF(P11=3,4,IF(P11=2,5,IF(P11=1,6,\"\")))","v":""},"年","","月","","日",null,null,"規定",null,{"$f":"C11","v":0},{"$f":"VLOOKUP($D$3,データテーブル!$A$2:$B$71,2,FALSE)","v":{"$error":"#N/A"}},{"$f":"Q11","v":0},null,{"$f":"VLOOKUP($D$3,データテーブル!$A$2:$B$71,2,FALSE)","v":{"$error":"#N/A"}},"規定単独演武",null,1,{"$f":"C11","v":0},{"$f":"I11","v":""},{"$f":"O11","v":""},0,0]
[null,null,null,null,null,null,null,null,"",null,null,null,null,null,{"$f":"IF(C12=\"\",\"\",データテーブル!$H$2)","v":""},null,null,"平成",null,"年",null,"月",null,"日","令和","","年","","月","","日",null,null,"規定",null,0,{"$f":"VLOOKUP($D$3,データテーブル!$A$2:$B$71,2,FALSE)","v":{"$error":"#N/A"}},0,null,{"$f":"VLOOKUP($D$3,データテーブル!$A$2:$B$71,2,FALSE)","v":{"$error":"#N/A"}},"規定単独演武",null,1,0,"","",0,0]
[null,null,null,null,null,null,null,null,"",null,null,null,null,null,{"$f":"IF(C13=\"\",\"\",データテーブル!$H$2)","v":""},null,null,"平成",null,"年",null,"月",null,"日","令和","","年","","月","","日",null,null,"規定",null,0,{"$f":"VLOOKUP($D$3,データテーブル!$A$2:$B$71,2,FALSE)","v":{"$error":"#N/A"}},0,null,{"$f":"VLOOKUP($D$3,データテーブル!$A$2:$B$71,2,FALSE)","v":{"$error":"#N/A"}},"規定単独演武",null,1,0,"","",0,0]
[null,null,null,null,null,null,null,null,"",null,null,null,null,null,{"$f":"IF(C14=\"\",\"\",データテーブル!$H$2)","v":""},null,null,"平成",null,"年",null,"月",null,"日","令和","","年","","月","","日",null,null,"規定",null,0,{"$f":"VLOOKUP($D$3,データテーブル!$A$2:$B$71,2,FALSE)","v":{"$error":"#N/A"}},0,null,{"$f":"VLOOKUP($D$3,データテーブル!$A$2:$B$71,2,FALSE)","v":{"$error":"#N/A"}},"規定単独演武",null,1,0,"","",0,0]
["自由単独演武",null,null,null,null,null,null,null,"",null,null,null,null,null,{"$f":"IF(C15=\"\",\"\",データテーブル!$H$2)","v":""},null,null,"平成",null,"年",null,"月",null,"日","令和","","年","","月","","日",null,null,"自由",null,0,{"$f":"VLOOKUP($D$3,データテーブル!$A$2:$B$71,2,FALSE)","v":{"$error":"#N/A"}},0,null,{"$f":"VLOOKUP($D$3,データテーブル!$A$2:$B$71,2,FALSE)","v":{"$error":"#N/A"}},"自由単独演武",null,1,0,"","",0,0]
[null,null,null,null,null,null,null,null,"",null,null,null,null,null,{"$f":"IF(C16=\"\",\"\",データテーブル!$H$2)","v":""},null,null,"平成",null,"年",null,"月",null,"日","令和","","年","","月","","日",null,null,"自由",null,0,{"$f":"VLOOKUP($D$3,データテーブル!$A$2:$B$71,2,FALSE)","v":{"$error":"#N/A"}},0,null,{"$f":"VLOOKUP($D$3,データテーブル!$A$2:$B$71,2,FALSE)","v":{"$error":"#N/A"}},"自由単独演武",null,1,0,"","",0,0]
[null,null,null,null,null,null,null,null,"",null,null,null,null,null,{"$f":"IF(C17=\"\",\"\",データテーブル!$H$2)","v":""},null,null,"平成",null,"年",null,"月",null,"日","令和","","年","","月","","日",null,null,"自由",null,0,{"$f":"VLOOKUP($D$3,データテーブル!$A$2:$B$71,2,FALSE)","v":{"$error":"#N/A"}},0,null,{"$f":"VLOOKUP($D$3,データテーブル!$A$2:$B$71,2,FALSE)","v":{"$error":"#N/A"}},"自由単独演武",null,1,0,"","",0,0]
[null,null,null,null,null,null,null,null,"",null,null,null,null,null,{"$f":"IF(C18=\"\",\"\",データテーブル!$H$2)","v":""},null,null,"平成",null,"年",null,"月",null,"日","令和","","年","","月","","日",null,null,"自由",null,0,{"$f":"VLOOKUP($D$3,データテーブル!$A$2:$B$71,2,FALSE)","v":{"$error":"#N/A"}},0,null,{"$f":"VLOOKUP($D$3,データテーブル!$A$2:$B$71,2,FALSE)","v":{"$error":"#N/A"}},"自由単独演武",null,1,0,"","",0,0]
[null,null,null,null,null,null,null,null,"",null,null,null,null,null,{"$f":"IF(C19=\"\",\"\",データテーブル!$H$2)","v":""},null,null,"平成",null,"年",null,"月",null,"日","令和","","年","","月","","日",null,null,"自由",null,0,{"$f":"VLOOKUP($D$3,データテーブル!$A$2:$B$71,2,FALSE)","v":{"$error":"#N/A"}},0,null,{"$f":"VLOOKUP($D$3,データテーブル!$A$2:$B$71,2,FALSE)","v":{"$error":"#N/A"}},"自由単独演武",null,1,0,"","",0,0]
["規定組演武",1,null,null,null,null,null,null,"",null,null,null,null,null,{"$f":"IF(C20=\"\",\"\",データテーブル!$H$2)","v":""},null,null,"平成",null,"年",null,"月",null,"日","令和","","年","","月","","日",null,null,"規定",null,0,{"$f":"VLOOKUP($D$3,データテーブル!$A$2:$B$71,2,FALSE)","v":{"$error":"#N/A"}},0,null,{"$f":"VLOOKUP($D$3,データテーブル!$A$2:$B$71,2,FALSE)","v":{"$error":"#N/A"}},"規定組演武",null,1,0,"","",0,0]
[null,2,null,null,null,null,null,null,"",null,null,null,null,null,{"$f":"IF(C21=\"\",\"\",データテーブル!$H$2)","v":""},null,null,"平成",null,"年",null,"月",null,"日","令和","","年","","月","","日",null,null,null,null,0,null,0,null,{"$f":"VLOOKUP($D$3,データテーブル!$A$2:$B$71,2,FALSE)","v":{"$error":"#N/A"}},"規定組演武",null,2,0,"","",0,0]
[null,1,null,null,null,null,null,null,"",null,null,null,null,null,{"$f":"IF(C22=\"\",\"\",データテーブル!$H$2)","v":""},null,null,"平成",null,"年",null,"月",null,"日","令和","","年","","月","","日",null,null,"規定",null,0,{"$f":"VLOOKUP($D$3,データテーブル!$A$2:$B$71,2,FALSE)","v":{"$error":"#N/A"}},0,null,{"$f":"VLOOKUP($D$3,データテーブル!$A$2:$B$71,2,FALSE)","v":{"$error":"#N/A"}},"規定組演武",null,1,0,"","",0,0]
[null,2,null,null,null,null,null,null,"",null,null,null,null,null,{"$f":"IF(C23=\"\",\"\",データテーブル!$H$2)","v":""},null,null,"平成",null,"年",null,"月",null,"日","令和","","年","","月","","日",null,null,null,null,0,null,0,null,{"$f":"VLOOKUP($D$3,データテーブル!$A$2:$B$71,2,FALSE)","v":{"$error":"#N/A"}},"規定組演武",null,2,0,"","",0,0]
[null,1,null,null,null,null,null,null,"",null,null,null,null,null,{"$f":"IF(C24=\"\",\"\",データテーブル!$H$2)","v":""},null,null,"平成",null,"年",null,"月",null,"日","令和","","年","","月","","日",null,null,"規定",null,0,{"$f":"VLOOKUP($D$3,データテーブル!$A$2:$B$71,2,FALSE)","v":{"$error":"#N/A"}},0,null,{"$f":"VLOOKUP($D$3,データテーブル!$A$2:$B$71,2,FALSE)","v":{"$error":"#N/A"}},"規定組演武",null,1,0,"","",0,0]
[null,2,null,null,null,null,null,null,"",null,null,null,null,null,{"$f":"IF(C25=\"\",\"\",データテーブル!$H$2)","v":""},null,null,"平成",null,"年",null,"月",null,"日","令和","","年","","月","","日",null,null,null,null,0,null,0,null,{"$f":"VLOOKUP($D$3,データテーブル!$A$2:$B$71,2,FALSE)","v":{"$error":"#N/A"}},"規定組演武",null,2,0,"","",0,0]
[null,1,null,null,null,null,null,null,"",null,null,null,null,null,{"$f":"IF(C26=\"\",\"\",データテーブル!$H$2)","v":""},null,null,"平成",null,"年",null,"月",null,"日","令和","","年","","月","","日",null,null,"規定",null,0,{"$f":"VLOOKUP($D$3,データテーブル!$A$2:$B$71,2,FALSE)","v":{"$error":"#N/A"}},0,null,{"$f":"VLOOKUP($D$3,データテーブル!$A$2:$B$71,2,FALSE)","v":{"$error":"#N/A"}},"規定組演武",null,1,0,"","",0,0]
[null,2,null,null,null,null,null,null,"",null,null,null,null,null,{"$f":"IF(C27=\"\",\"\",データテーブル!$H$2)","v":""},null,null,"平成",null,"年",null,"月",null,"日","令和","","年","","月","","日",null,null,null,null,0,null,0,null,{"$f":"VLOOKUP($D$3,データテーブル!$A$2:$B$71,2,FALSE)","v":{"$error":"#N/A"}},"規定組演武",null,2,0,"","",0,0]
[null,1,null,null,null,null,null,null,"",null,null,null,null,null,{"$f":"IF(C28=\"\",\"\",データテーブル!$H$2)","v":""},null,null,"平成",null,"年",null,"月",null,"日","令和","","年","","月","","日",null,null,"規定",null,0,{"$f":"VLOOKUP($D$3,データテーブル!$A$2:$B$71,2,FALSE)","v":{"$error":"#N/A"}},0,null,{"$f":"VLOOKUP($D$3,データテーブル!$A$2:$B$71,2,FALSE)","v":{"$error":"#N/A"}},"規定組演武",null,1,0,"","",0,0]
[null,2,null,null,null,null,null,null,"",null,null,null,null,null,{"$f":"IF(C29=\"\",\"\",データテーブル!$H$2)","v":""},null,null,"平成",null,"年",null,"月",null,"日","令和","","年","","月","","日",null,null,null,null,0,null,0,null,{"$f":"VLOOKUP($D$3,データテーブル!$A$2:$B$71,2,FALSE)","v":{"$error":"#N/A"}},"規定組演武",null,2,0,"","",0,0]
["自由組演武",1,null,null,null,null,null,null,"",null,null,null,null,null,{"$f":"IF(C30=\"\",\"\",データテーブル!$H$2)","v":""},null,null,"平成",null,"年",null,"月",null,"日","令和","","年","","月","","日",null,null,"自由",null,0,{"$f":"VLOOKUP($D$3,データテーブル!$A$2:$B$71,2,FALSE)","v":{"$error":"#N/A"}},0,null,{"$f":"VLOOKUP($D$3,データテーブル!$A$2:$B$71,2,FALSE)","v":{"$error":"#N/A"}},"自由組演武",null,1,0,"","",0,0]
[null,2,null,null,null,null,null,null,"",null,null,null,null,null,{"$f":"IF(C31=\"\",\"\",データテーブル!$H$2)","v":""},null,null,"平成",null,"年",null,"月",null,"日","令和","","年","","月","","日",null,null,null,null,0,null,0,null,{"$f":"VLOOKUP($D$3,データテーブル!$A$2:$B$71,2,FALSE)","v":{"$error":"#N/A"}},"自由組演武",null,2,0,"","",0,0]
[null,1,null,null,null,null,null,null,"",null,null,null,null,null,{"$f":"IF(C32=\"\",\"\",データテーブル!$H$2)","v":""},null,null,"平成",null,"年",null,"月",null,"日","令和","","年","","月","","日",null,null,"自由",null,0,{"$f":"VLOOKUP($D$3,データテーブル!$A$2:$B$71,2,FALSE)","v":{"$error":"#N/A"}},0,null,{"$f":"VLOOKUP($D$3,データテーブル!$A$2:$B$71,2,FALSE)","v":{"$error":"#N/A"}},"自由組演武",null,1,0,"","",0,0]
[null,2,null,null,null,null,null,null,"",null,null,null,null,null,{"$f":"IF(C33=\"\",\"\",データテーブル!$H$2)","v":""},null,null,"平成",null,"年",null,"月",null,"日","令和","","年","","月","","日",null,null,null,null,0,null,0,null,{"$f":"VLOOKUP($D$3,データテーブル!$A$2:$B$71,2,FALSE)","v":{"$error":"#N/A"}},"自由組演武",null,2,0,"","",0,0]
[null,1,null,null,null,null,null,null,"",null,null,null,null,null,{"$f":"IF(C34=\"\",\"\",データテーブル!$H$2)","v":""},null,null,"平成",null,"年",null,"月",null,"日","令和","","年","","月","","日",null,null,"自由",null,0,{"$f":"VLOOKUP($D$3,データテーブル!$A$2:$B$71,2,FALSE)","v":{"$error":"#N/A"}},0,null,{"$f":"VLOOKUP($D$3,データテーブル!$A$2:$B$71,2,FALSE)","v":{"$error":"#N/A"}},"自由組演武",null,1,0,"","",0,0]
[null,2,null,null,null,null,null,null,"",null,null,null,null,null,{"$f":"IF(C35=\"\",\"\",データテーブル!$H$2)","v":""},null,null,"平成",null,"年",null,"月",null,"日","令和","","年","","月","","日",null,null,null,null,0,null,0,null,{"$f":"VLOOKUP($D$3,データテーブル!$A$2:$B$71,2,FALSE)","v":{"$error":"#N/A"}},"自由組演武",null,2,0,"","",0,0]
[null,1,null,null,null,null,null,null,"",null,null,null,null,null,{"$f":"IF(C36=\"\",\"\",データテーブル!$H$2)","v":""},null,null,"平成",null,"年",null,"月",null,"日","令和","","年","","月","","日",null,null,"自由",null,0,{"$f":"VLOOKUP($D$3,データテーブル!$A$2:$B$71,2,FALSE)","v":{"$error":"#N/A"}},0,null,{"$f":"VLOOKUP($D$3,データテーブル!$A$2:$B$71,2,FALSE)","v":{"$error":"#N/A"}},"自由組演武",null,1,0,"","",0,0]
[null,2,null,null,null,null,null,null,"",null,null,null,null,null,{"$f":"IF(C37=\"\",\"\",データテーブル!$H$2)","v":""},null,null,"平成",null,"年",null,"月",null,"日","令和","","年","","月","","日",null,null,null,null,0,null,0,null,{"$f":"VLOOKUP($D$3,データテーブル!$A$2:$B$71,2,FALSE)","v":{"$error":"#N/A"}},"自由組演武",null,2,0,"","",0,0]
[null,1,null,null,null,null,null,null,"",null,null,null,null,null,{"$f":"IF(C38=\"\",\"\",データテーブル!$H$2)","v":""},null,null,"平成",null,"年",null,"月",null,"日","令和","","年","","月","","日",null,null,"自由",null,0,{"$f":"VLOOKUP($D$3,データテーブル!$A$2:$B$71,2,FALSE)","v":{"$error":"#N/A"}},0,null,{"$f":"VLOOKUP($D$3,データテーブル!$A$2:$B$71,2,FALSE)","v":{"$error":"#N/A"}},"自由組演武",null,1,0,"","",0,0]
[null,2,null,null,null,null,null,null,"",null,null,null,null,null,{"$f":"IF(C39=\"\",\"\",データテーブル!$H$2)","v":""},null,null,"平成",null,"年",null,"月",null,"日","令和","","年","","月","","日","重複",null,null,null,0,null,0,null,{"$f":"VLOOKUP($D$3,データテーブル!$A$2:$B$71,2,FALSE)","v":{"$error":"#N/A"}},"自由組演武",null,2,0,"","",0,0]
["団体演武",1,null,null,null,null,null,null,"",null,null,null,null,null,{"$f":"IF(C40=\"\",\"\",データテーブル!$H$2)","v":""},null,null,"平成",null,"年",null,"月",null,"日","令和","","年","","月","","日",{"$f":"IF(COUNTIF($C$10:$H$39,C40)>0,\"○\",\"\")","v":""},null,null,null,null,null,null,null,{"$f":"VLOOKUP($D$3,データテーブル!$A$2:$B$71,2,FALSE)","v":{"$error":"#N/A"}},"団体演武",null,1,0,"","",0,0]
[null,2,null,null,null,null,null,null,"",null,null,null,null,null,{"$f":"IF(C41=\"\",\"\",データテーブル!$H$2)","v":""},null,null,"平成",null,"年",null,"月",null,"日","令和","","年","","月","","日",{"$f":"IF(COUNTIF($C$10:$H$39,C41)>0,\"○\",\"\")","v":""},null,null,null,null,null,null,null,{"$f":"VLOOKUP($D$3,データテーブル!$A$2:$B$71,2,FALSE)","v":{"$error":"#N/A"}},"団体演武",null,2,0,"","",0,0]
[null,3,null,null,null,null,null,null,"",null,null,null,null,null,{"$f":"IF(C42=\"\",\"\",データテーブル!$H$2)","v":""},null,null,"平成",null,"年",null,"月",null,"日","令和","","年","","月","","日","",null,null,null,null,null,null,null,{"$f":"VLOOKUP($D$3,データテーブル!$A$2:$B$71,2,FALSE)","v":{"$error":"#N/A"}},"団体演武",null,3,0,"","",0,0]
[null,4,null,null,null,null,null,null,"",null,null,null,null,null,{"$f":"IF(C43=\"\",\"\",データテーブル!$H$2)","v":""},null,null,"平成",null,"年",null,"月",null,"日","令和","","年","","月","","日","",null,null,null,null,null,null,null,{"$f":"VLOOKUP($D$3,データテーブル!$A$2:$B$71,2,FALSE)","v":{"$error":"#N/A"}},"団体演武",null,4,0,"","",0,0]
[null,5,null,null,null,null,null,null,"",null,null,null,null,null,{"$f":"IF(C44=\"\",\"\",データテーブル!$H$2)","v":""},null,null,"平成",null,"年",null,"月",null,"日","令和","","年","","月","","日","",null,null,null,null,null,null,null,{"$f":"VLOOKUP($D$3,データテーブル!$A$2:$B$71,2,FALSE)","v":{"$error":"#N/A"}},"団体演武",null,5,0,"","",0,0]
[null,6,null,null,null,null,null,null,"",null,null,null,null,null,{"$f":"IF(C45=\"\",\"\",データテーブル!$H$2)","v":""},null,null,"平成",null,"年",null,"月",null,"日","令和","","年","","月","","日","",null,null,null,null,null,null,null,{"$f":"VLOOKUP($D$3,データテーブル!$A$2:$B$71,2,FALSE)","v":{"$error":"#N/A"}},"団体演武",null,6,0,"","",0,0]
[null,7,null,null,null,null,null,null,"",null,null,null,null,null,{"$f":"IF(C46=\"\",\"\",データテーブル!$H$2)","v":""},null,null,"平成",null,"年",null,"月",null,"日","令和","","年","","月","","日","",null,null,null,null,null,null,null,{"$f":"VLOOKUP($D$3,データテーブル!$A$2:$B$71,2,FALSE)","v":{"$error":"#N/A"}},"団体演武",null,7,0,"","",0,0]
[null,8,null,null,null,null,null,null,"",null,null,null,null,null,{"$f":"IF(C47=\"\",\"\",データテーブル!$H$2)","v":""},null,null,"平成",null,"年",null,"月",null,"日","令和","","年","","月","","日","",null,null,null,null,null,null,null,{"$f":"VLOOKUP($D$3,データテーブル!$A$2:$B$71,2,FALSE)","v":{"$error":"#N/A"}},"団体演武",null,8,0,"","",0,0]
["ﾏﾈｰｼﾞｬｰ",null,null,null,null,null,null,null,"",null,null,null,null,null,null,null,null,"平成",null,"年",null,"月",null,"日","令和","","年","","月","","日"]
[]
["上記の者は本校在学生で、本大会に出場することを認め、参加申し込み致します。"]
[]
["高体連個人情報に関する取り扱いについては、本大会要項の記載事項を承諾の上で、参加申し込みすることを同意します。"]
[]
[null,"令和",null,6,"年",{"$f":"MONTH(TODAY())","v":4},"月",{"$f":"DAY(TODAY())","v":11},"日"]
[]
[null,null,null,null,null,null,null,null,{"$f":"IF($D$3=\"\",\"\",$D$3)","v":""},null,null,null,null,null,null,null,null,null,null,"校長",null,{"$f":"IF($D$3=\"\",\"\",VLOOKUP($D$3,データテーブル!$A$2:$G$71,7,0))","v":""},null,null,null,null,null,null,null,null,"印"]

{"sheet":"参加人数集計","index":2,"n_rows":7,"n_cols":5,"rows_kept":7,"cut":false,"hidden":false,"merged":[[0,0,1,3]]}
[{"$f":"IF(男子エントリー!$D$3=\"\",#REF!,男子エントリー!$D$3)","v":{"$error":"#REF!"}}]
[]
[null,"男子","女子","合計","備　　　考"]
["単独演武",{"$f":"COUNTA(男子エントリー!$C$10:$H$19)","v":0},{"$f":"COUNTA(女子エントリー!$C$10:$H$19)","v":0},{"$f":"SUM(B4:C4)","v":0}]
["組演武",{"$f":"COUNTA(男子エントリー!$C$20:$H$39)","v":0},{"$f":"COUNTA(女子エントリー!$C$20:$H$39)","v":0},0]
["団体演武",{"$f":"COUNTA(男子エントリー!$C$40:$H$47)-COUNTIF(男子エントリー!$AF$40:$AF$47,\"○\")","v":0},{"$f":"COUNTA(女子エントリー!$C$40:$H$47)-COUNTIF(女子エントリー!$AF$40:$AF$47,\"○\")","v":0},0,"団体演武のエントリー数から重複人数を引いた数になります。"]
["合計",{"$f":"SUM(B4:B6)","v":0},{"$f":"SUM(C4:C6)","v":0},{"$f":"SUM(D4:D6)","v":0},"実参加人数です。この人数で参加料が請求されます。"]

{"sheet":"データテーブル","index":3,"n_rows":71,"n_cols":11,"rows_kept":71,"cut":false,"hidden":false,"merged":[[53,6,54,6],[56,6,58,6]]}
["学校名","略称","郵便番号","住所","ＴＥＬ","ＦＡＸ","校長名","性別","学年","資格","重複"]
["宮崎県立延岡工業高等学校","延岡工業","882-0863","延岡市緑ヶ丘1丁目8-1","0982-33-3323","0982-33-3324","山　内　武　幸","男",1,"三段","○"]
["宮崎県立都城工業高等学校","都城工業","885-0084","都城市五十町2400番地","0986-22-4349","0986-22-5877","香　川　健　二","女",2,"二段"]
["私立都城高等学校","都城","885-0095","都城市簑原町7916番地","0986-23-2477","0986-26-5220","久　保　壮　史",null,3,"初段"]
["国立都城工業高等専門学校","都城高専","885-8567","都城市吉尾町473番地の1","0986-47-1133","0986-47-1143","田　村　隆　弘",null,null,"１級"]
["*****************************",null,null,null,null,null,null,null,null,"２級"]
["宮崎県立五ヶ瀬中等教育学校","五ヶ瀬","882-1203","五ヶ瀬町大字三ヶ所9468-30","0982-\n82-1255","0982-\n82-1266","　平　　和　正",null,null,"３級"]
["宮崎県立高千穂高等学校","高千穂","882-1101","高千穂町大字三田井1234","0982-\n72-3111","0982-\n72-3703","長　友　美　紀",null,null,"４級"]
["私立延岡学園高等学校","延岡学園","882-0001","延岡市大峡町7820番地","0982-\n33-3227","0982-\n35-1025","柳　田　光　寛",null,null,"５級"]
["宮崎県立延岡商業高等学校","延岡商業","882-0007","延岡市桜ヶ丘3丁目7122番地","0982-\n32-6348","0982-\n32-6349","堀　切　康　博",null,null,"６級"]
["宮崎県立延岡星雲高等学校","延岡星雲","882-0023","延岡市牧町4722番地","0982-\n31-2491","0982-\n35-6026","宮　﨑　真　司",null,null,"見習い"]
["宮崎県立延岡高等学校","延岡","882-0837","延岡市古城町3-233","0982-\n32-5331","0982-\n33-7600","澁　谷　好　一"]
["私立聖心ウルスラ学園高等学校","ウルスラ","882-0863","延岡市緑ヶ丘3丁目7番21号","0982-\n33-3472","0982-\n32-2152","安　藤　真　二"]
["宮崎県立門川高等学校","門川","889-0611","門川町大字門川尾末2680","0982-\n63-1336","0982-\n63-5194","村　社　貞　利"]
["宮崎県立富島高等学校","富島","883-0052","日向市鶴町3丁目1番43号","0982-\n52-2158","0982-\n54-9510","小　川　晴　彦"]
["宮崎県立日向高等学校","日向","883-0021","日向市大字財光寺6265番地","0982-\n54-3400","0982-\n54-3759","吉　玉　　拓"]
["宮崎県立日向工業高等学校","日向工業","883-0022","日向市大字平岩8750番地","0982-\n57-1411","0982-\n57-2146","二　見　宗　英"]
["宮崎県立高鍋農業高等学校","高鍋農業","884-0006","児湯郡高鍋町上江1339-2","0983-\n23-0002","0983-\n23-5542","髙　橋　　寛"]
["宮崎県立高鍋高等学校","高鍋","884-0002","児湯郡高鍋町大字北高鍋4262","0983-\n23-0005","0983-\n23-5096","山　尾　典　子"]
["宮崎県立妻高等学校","妻","881-0003","西都市大字右松2330番地","0983-\n43-0005","0983-\n43-0004","三　浦　正　貴"]
["宮崎県立佐土原高等学校","佐土原","880-0211","宮崎市佐土原町大字下田島21567番地","0985-\n73-5657","0985-\n73-5695","田　平　裕　三"]
["宮崎県立本庄高等学校","本庄","880-1101","東諸県郡国富町大字本庄5071番地","0985-\n75-2049","0985-\n75-2592","宮　竹　恵　理"]
["私立宮崎日本大学高等学校","宮崎日大","880-0121","宮崎市大字島之内6822-2","0985-\n39-1121","0985-\n39-7427","間　野　寛　樹"]
["私立日章学園高等学校","日章学園","880-0125","宮崎市広原836","0985-\n39-1321","0985-\n39-1324","甲　斐　勝　弘"]
["宮崎県立宮崎北高等学校","宮崎北","880-0124","宮崎市大字新名爪4567番地","0985-\n39-1288","0985-\n39-1328","鬼　束　雅　史"]
["宮崎県立宮崎大宮高等学校","宮崎大宮","880-0056","宮崎市神宮東1-3-10","0985-\n22-5191","0985-\n27-9803","髙　橋　哲　郎"]
["私立日向学院高等学校","日向学院","880-0878","宮崎市大和町110","0985-\n22-8296","0985-\n27-1805","中　田　正一郎"]
["私立宮崎学園高等学校","宮崎学園","880-8503","宮崎市昭和町３番地","0985-\n23-5318","0985-\n27-7202","押　方　　修"]
["宮崎県立宮崎商業高等学校","宮崎商業","880-0023","宮崎市和知川原3-24","0985-\n22-8218","0985-\n22-8210","田　代　晃　一"]
["宮崎県立宮崎海洋高等学校","宮崎海洋","880-0856","宮崎市日の出町１番地","0985-\n22-4115","0985-\n31-8801","岡　部　賢　志"]
["宮崎県立宮崎工業高等学校","宮崎工業","880-8567","宮崎市天満町9-1","0985-\n51-7231","0985-\n51-7287","中別府　勇　治"]
["宮崎県立宮崎農業高等学校","宮崎農業","880-0916","宮崎市大字恒久春日田1061","0985-\n51-2814","0985-\n52-6406","奥　平　博　徳"]
["宮崎県立宮崎西高等学校","宮崎西","880-0951","宮崎市大塚町柳ヶ迫3975番地2","0985-\n48-1021","0985-\n48-0783","谷　口　彰　規"]
["宮崎県立宮崎南高等学校","宮崎南","880-0926","宮崎市月見ヶ丘5丁目2番1号","0985-\n51-2314","0985-\n51-0607","那　須　雅　博"]
["私立宮崎第一高等学校","宮崎第一","880-0924","宮崎市大字郡司分甲767","0985-\n56-2626","0985-\n56-0088","一　丸　謙　蔵"]
["私立鵬翔高等学校","鵬翔","880-0916","宮崎市大字恒久4336","0985-\n52-2020","0985-\n52-7887","土　肥　隆　夫"]
["私立日南学園高等学校宮崎穎学館","穎学館","889-1702","宮崎市田野町乙10905番地","0985-\n86-1021","0985-\n86-1020","久保田　一　史"]
["宮崎県立日南高等学校","日南","889-2533","日南市大字星倉5800番地","0987-\n25-1669","0987-\n25-4094","坂　元　教　久"]
["宮崎県立日南振徳高等学校","日南振徳","889-2532","日南市大字板敷410番地","0987-\n25-1107","0987-\n25-1214","若　林　繁　幸"]
["私立日南学園高等学校","日南学園","887-0041","日南市吾田東3丁目5番1号","0987-\n23-1311","0987-\n23-1313","藤　原　昭　悟"]
["宮崎県立福島高等学校","福島","888-0001","串間市大字西方4015","0987-\n72-0049","0987-\n72-3118","吉　田　重　樹"]
["宮崎県立高城高等学校","高城","885-1298","都城市高城町穂満坊156番地","0986-\n58-2330","0986-\n58-2331","西國原　総　代"]
["宮崎県立都城農業高等学校","都城農業","885-0019","都城市祝吉1丁目5-1","0986-\n22-4280","0986-\n22-3324","山　下　　勉"]
["宮崎県立都城商業高等学校","都城商業","885-0053","都城市上東町31-25","0986-\n22-1758","0986-\n22-1759","大　脇　光　徳"]
["宮崎県立都城泉ヶ丘高等学校","泉ヶ丘","885-0033","都城市妻ヶ丘町27-15","0986-\n23-0223","0986-\n24-5884","篠　田　俊　彦"]
["宮崎県立都城西高等学校","都城西","885-0094","都城市都原町3405","0986-\n23-1904","0986-\n23-2853","荒　武　邦　好"]
["私立都城東高等学校","都城東","889-1996","三股町大字樺山1996","0986-\n52-1010","0986-\n52-1011","ウィー・ビルブライアン"]
["私立聖ドミニコ学園高等学校","ドミニコ","885-0061","都城市下長飯町881番地","0986-\n39-1303","0986-\n39-4117","持　永　一　美"]
["宮崎県立小林高等学校","小林","886-8505","小林市大字真方124","0984-\n23-4164","0984-\n23-1473","永　倉　英　了"]
["宮崎県立小林秀峰高等学校","小林秀峰","886-8506","小林市大字水流迫664-2","0984-\n23-2252","0984-\n23-2257","黒　木　　篤"]
["私立小林西高等学校","小林西","886-8588","小林市大字細野588番地48","0984-\n22-5155","0984-\n22-6112","竹　元　和　寛"]
["宮崎県立飯野高等学校","飯野","889-4301","えびの市大字原田3068番地","0984-\n33-0300","0984-\n33-5204","光　神　省　三"]
["私立日章学園九州国際高等学校","九州国際","889-4243","えびの市大字榎田363番地","0984-\n35-3500","0984-\n35-3334","屋　田　伸　仁"]
["宮崎県立延岡青朋高等学校(定時制)","延岡青朋(定)","882-0866","延岡市平原町2丁目2618-2","0982-\n33-4980","0982-\n33-3957","梅　津　政　俊"]
["宮崎県立延岡青朋高等学校(通信制)","延岡青朋(通)","882-0866","延岡市平原町2丁目2618-2","0982-\n33-4980","0982-\n33-3957"]
["宮崎県立富島高等学校(定時制)","富島(定)","883-0052","日向市鶴町3丁目1番43号","0982-\n52-4075","0982-\n52-4075","小　川　晴　彦"]
["宮崎県立宮崎東高等学校(定時制夜間部)","宮崎東(定夜)","880-0056","宮崎市神宮東1丁目2番42号","0985-\n28-5455","0985-\n32-1109","長谷川　岳　洋"]
["宮崎県立宮崎東高等学校(通信制)","宮崎東(通)","880-0056","宮崎市神宮東1丁目2番42号","0985-\n28-5455","0985-\n32-1109"]
["宮崎県立宮崎東高等学校(定時制昼間部)","宮崎東(定昼)","880-0056","宮崎市神宮東1丁目2番42号","0985-\n28-5455","0985-\n32-1109"]
["宮崎県立宮崎工業高等学校(定時制)","宮崎工業(定)","880-8567","宮崎市天満町9-1","0985-\n51-1054","0985-\n51-1054","中別府　勇　治"]
["宮崎県立都城泉ヶ丘高等学校(定時制)","泉ヶ丘(定)","885-0033","都城市妻ヶ丘町27街区15号","0986-\n23-0223","0986-\n24-5884","篠　田　俊　彦"]
["宮崎県立明星視覚支援学校","明星視覚支援","880-0121","宮崎市大字島之内1390番地","0985-\n39-1021","0985-\n39-1622","鎌　田　雄　一"]
["宮崎県立都城さくら聴覚支援学校","都城さくら聴覚支援","885-0094","都城市都原町7430番地","0986-\n22-0685","0986-\n22-0628","岩　元　芳　博"]
["宮崎県立延岡しろやま支援学校","延岡しろやま支援","882-0802","延岡市野地町3丁目3477番地2","0982-\n29-3715","0982-\n29-3716","出　水　悌　二"]
["宮崎県立日向ひまわり支援学校","日向ひまわり支援","883-0033","日向市大字塩見12161番地","0982-\n54-9610","0982-\n54-9612","山　腰　美穂子"]
["宮崎県立児湯るぴなす支援学校","児湯るぴなす支援","889-1401","児湯郡新富町大字日置1297番地","0983-\n33-4207","0983-\n33-5642","山　元　秀　樹"]
["宮崎県立みやざき中央支援学校","みやざき中央支援","880-0121","宮崎市大字島之内2100番地","0985-\n39-1633","0985-\n39-6046","松　田　律　子"]
["宮崎県立みなみのかぜ支援学校","みなみのかぜ支援","889-1601","宮崎市清武町木原4257番地6","0985-\n85-7851","0985-\n85-7859","山之口　義　弘"]
["宮崎県立日南くろしお支援学校","日南くろしお支援","887-0034","日南市大字風田4030番地","0987-\n23-9212","0987-\n23-9207","肱　岡　憲　吾"]
["宮崎県立都城きりしま支援学校","都城きりしま支援","885-0092","都城市南横市町7097番地2","0986-\n25-1878","0986-\n25-4745","楫　山　一　郎"]
["宮崎県立小林こすもす支援学校","小林こすもす支援","886-0007","小林市真方124番地","0984-\n24-5508","0984-\n23-1524","　菅　　竜　朗"]